BEGIN:VCALENDAR
VERSION:2.0
PRODID:-//Manette Business Association - ECPv6.15.10//NONSGML v1.0//EN
CALSCALE:GREGORIAN
METHOD:PUBLISH
X-WR-CALNAME:Manette Business Association
X-ORIGINAL-URL:https://www.manettebusiness.org
X-WR-CALDESC:Events for Manette Business Association
REFRESH-INTERVAL;VALUE=DURATION:PT1H
X-Robots-Tag:noindex
X-PUBLISHED-TTL:PT1H
BEGIN:VTIMEZONE
TZID:UTC
BEGIN:STANDARD
TZOFFSETFROM:+0000
TZOFFSETTO:+0000
TZNAME:UTC
DTSTART:20220101T000000
END:STANDARD
END:VTIMEZONE
BEGIN:VEVENT
DTSTART;TZID=UTC:20240822T183000
DTEND;TZID=UTC:20240822T203000
DTSTAMP:20260423T173307
CREATED:20240407T155703Z
LAST-MODIFIED:20240422T191532Z
UID:301-1724351400-1724358600@www.manettebusiness.org
SUMMARY:Music In Manette - Harmonica Pocket
DESCRIPTION:Summer concert series at Whitey Domstad Park hosted by the Manette Business Association. Join us Thursday evenings 6:30p-8:30p from July 11th-Aug 29th for live music and an opportunity to connect with your community. See you there!
URL:https://www.manettebusiness.org/event/music-in-manette-artist-tbd-7/
LOCATION:Whitey Domstad Park\, 1101 Wheaton Way\, Bremerton\, Washington\, 98310\, United States
ATTACH;FMTTYPE=image/jpeg:https://www.manettebusiness.org/wp-content/uploads/2023/04/Music-in-manette-1.jpeg
END:VEVENT
BEGIN:VEVENT
DTSTART;TZID=UTC:20240815T183000
DTEND;TZID=UTC:20240815T203000
DTSTAMP:20260423T173307
CREATED:20240407T155638Z
LAST-MODIFIED:20240422T191612Z
UID:299-1723746600-1723753800@www.manettebusiness.org
SUMMARY:Music In Manette - Actual Size
DESCRIPTION:Summer concert series at Whitey Domstad Park hosted by the Manette Business Association. Join us Thursday evenings 6:30p-8:30p from July 11th-Aug 29th for live music and an opportunity to connect with your community. See you there!
URL:https://www.manettebusiness.org/event/music-in-manette-artist-tbd-6/
LOCATION:Whitey Domstad Park\, 1101 Wheaton Way\, Bremerton\, Washington\, 98310\, United States
ATTACH;FMTTYPE=image/jpeg:https://www.manettebusiness.org/wp-content/uploads/2023/04/Music-in-manette-1.jpeg
END:VEVENT
BEGIN:VEVENT
DTSTART;TZID=UTC:20240808T183000
DTEND;TZID=UTC:20240808T203000
DTSTAMP:20260423T173307
CREATED:20240407T155605Z
LAST-MODIFIED:20240422T191644Z
UID:297-1723141800-1723149000@www.manettebusiness.org
SUMMARY:Music In Manette - Luke Stanton
DESCRIPTION:Summer concert series at Whitey Domstad Park hosted by the Manette Business Association. Join us Thursday evenings 6:30p-8:30p from July 11th-Aug 29th for live music and an opportunity to connect with your community. See you there!
URL:https://www.manettebusiness.org/event/music-in-manette-artist-tbd-5/
LOCATION:Whitey Domstad Park\, 1101 Wheaton Way\, Bremerton\, Washington\, 98310\, United States
ATTACH;FMTTYPE=image/jpeg:https://www.manettebusiness.org/wp-content/uploads/2023/04/Music-in-manette-1.jpeg
END:VEVENT
BEGIN:VEVENT
DTSTART;TZID=UTC:20240801T183000
DTEND;TZID=UTC:20240801T203000
DTSTAMP:20260423T173307
CREATED:20240407T155532Z
LAST-MODIFIED:20240422T191712Z
UID:295-1722537000-1722544200@www.manettebusiness.org
SUMMARY:Music In Manette - The Malo Combo
DESCRIPTION:Summer concert series at Whitey Domstad Park hosted by the Manette Business Association. Join us Thursday evenings 6:30p-8:30p from July 11th-Aug 29th for live music and an opportunity to connect with your community. See you there!
URL:https://www.manettebusiness.org/event/music-in-manette-artist-tbd-4/
LOCATION:Whitey Domstad Park\, 1101 Wheaton Way\, Bremerton\, Washington\, 98310\, United States
ATTACH;FMTTYPE=image/jpeg:https://www.manettebusiness.org/wp-content/uploads/2023/04/Music-in-manette-1.jpeg
END:VEVENT
BEGIN:VEVENT
DTSTART;TZID=UTC:20240725T183000
DTEND;TZID=UTC:20240725T203000
DTSTAMP:20260423T173307
CREATED:20240407T155453Z
LAST-MODIFIED:20240422T192019Z
UID:293-1721932200-1721939400@www.manettebusiness.org
SUMMARY:Music In Manette - Ranger and the "Re-Arrangers"
DESCRIPTION:Summer concert series at Whitey Domstad Park hosted by the Manette Business Association. Join us Thursday evenings 6:30p-8:30p from July 11th-Aug 29th for live music and an opportunity to connect with your community. See you there!
URL:https://www.manettebusiness.org/event/music-in-manette-artist-tbd-3/
LOCATION:Whitey Domstad Park\, 1101 Wheaton Way\, Bremerton\, Washington\, 98310\, United States
ATTACH;FMTTYPE=image/jpeg:https://www.manettebusiness.org/wp-content/uploads/2023/04/Music-in-manette-1.jpeg
END:VEVENT
BEGIN:VEVENT
DTSTART;TZID=UTC:20240718T183000
DTEND;TZID=UTC:20240718T203000
DTSTAMP:20260423T173307
CREATED:20240407T155400Z
LAST-MODIFIED:20240422T192101Z
UID:291-1721327400-1721334600@www.manettebusiness.org
SUMMARY:Music In Manette - Bonefish
DESCRIPTION:Summer concert series at Whitey Domstad Park hosted by the Manette Business Association. Join us Thursday evenings 6:30p-8:30p from July 11th-Aug 29th for live music and an opportunity to connect with your community. See you there!
URL:https://www.manettebusiness.org/event/music-in-manette-artist-tbd-2/
LOCATION:Whitey Domstad Park\, 1101 Wheaton Way\, Bremerton\, Washington\, 98310\, United States
ATTACH;FMTTYPE=image/jpeg:https://www.manettebusiness.org/wp-content/uploads/2023/04/Music-in-manette-1.jpeg
END:VEVENT
BEGIN:VEVENT
DTSTART;TZID=UTC:20240711T183000
DTEND;TZID=UTC:20240711T203000
DTSTAMP:20260423T173307
CREATED:20240407T155224Z
LAST-MODIFIED:20240423T173647Z
UID:288-1720722600-1720729800@www.manettebusiness.org
SUMMARY:Music In Manette - Kim and Brian Band
DESCRIPTION:Summer concert series at Whitey Domstad Park hosted by the Manette Business Association. Join us Thursday evenings 6:30p-8:30p from July 11th-Aug 29th for live music and an opportunity to connect with your community. See you there!
URL:https://www.manettebusiness.org/event/music-in-manette-artist-tbd/
LOCATION:Whitey Domstad Park\, 1101 Wheaton Way\, Bremerton\, Washington\, 98310\, United States
ATTACH;FMTTYPE=image/jpeg:https://www.manettebusiness.org/wp-content/uploads/2023/04/Music-in-manette-1.jpeg
END:VEVENT
BEGIN:VEVENT
DTSTART;TZID=UTC:20231201T170000
DTEND;TZID=UTC:20231201T200000
DTSTAMP:20260423T173307
CREATED:20230413T155347Z
LAST-MODIFIED:20230413T155348Z
UID:155-1701450000-1701460800@www.manettebusiness.org
SUMMARY:December First Friday Art Walk
DESCRIPTION:Enjoy a free community event that showcases the thriving art scene in Bremerton.First Friday Art Walk is held in Downtown Bremerton\, Callow and Manette every first Friday from 5pm–8pm. Rain or shine. Our downtown community is growing and we want you to discover your future favorite gallery\, retail shops and local eats. Check out the featured businesses that participate during First Friday Art Walk. Businesses host artists\, musicians\, and more. Discover Bremerton today. \n\n\n\n\n\nEnjoy a wide variety of businesses and attractions including:\n\n\n\n\n• Cinemas \n• Arcades \n• Retail Shopping \n• and of course…Local Art \n\n\n\n\n• Restaurants \n• Two Fine Art Galleries \n• Three Museums
URL:https://www.manettebusiness.org/event/december-first-friday-art-walk/
ATTACH;FMTTYPE=image/png:https://www.manettebusiness.org/wp-content/uploads/2023/04/First-Friday.png
END:VEVENT
BEGIN:VEVENT
DTSTART;TZID=UTC:20231103T170000
DTEND;TZID=UTC:20231103T200000
DTSTAMP:20260423T173307
CREATED:20230413T155329Z
LAST-MODIFIED:20230413T155330Z
UID:153-1699030800-1699041600@www.manettebusiness.org
SUMMARY:November First Friday Art Walk
DESCRIPTION:Enjoy a free community event that showcases the thriving art scene in Bremerton.First Friday Art Walk is held in Downtown Bremerton\, Callow and Manette every first Friday from 5pm–8pm. Rain or shine. Our downtown community is growing and we want you to discover your future favorite gallery\, retail shops and local eats. Check out the featured businesses that participate during First Friday Art Walk. Businesses host artists\, musicians\, and more. Discover Bremerton today. \n\n\n\n\n\nEnjoy a wide variety of businesses and attractions including:\n\n\n\n\n• Cinemas \n• Arcades \n• Retail Shopping \n• and of course…Local Art \n\n\n\n\n• Restaurants \n• Two Fine Art Galleries \n• Three Museums
URL:https://www.manettebusiness.org/event/november-first-friday-art-walk/
ATTACH;FMTTYPE=image/png:https://www.manettebusiness.org/wp-content/uploads/2023/04/First-Friday.png
END:VEVENT
BEGIN:VEVENT
DTSTART;TZID=UTC:20231006T170000
DTEND;TZID=UTC:20231006T200000
DTSTAMP:20260423T173307
CREATED:20230413T155303Z
LAST-MODIFIED:20230413T155307Z
UID:151-1696611600-1696622400@www.manettebusiness.org
SUMMARY:October First Friday Art Walk
DESCRIPTION:Enjoy a free community event that showcases the thriving art scene in Bremerton.First Friday Art Walk is held in Downtown Bremerton\, Callow and Manette every first Friday from 5pm–8pm. Rain or shine. Our downtown community is growing and we want you to discover your future favorite gallery\, retail shops and local eats. Check out the featured businesses that participate during First Friday Art Walk. Businesses host artists\, musicians\, and more. Discover Bremerton today. \n\n\n\n\n\nEnjoy a wide variety of businesses and attractions including:\n\n\n\n\n• Cinemas \n• Arcades \n• Retail Shopping \n• and of course…Local Art \n\n\n\n\n• Restaurants \n• Two Fine Art Galleries \n• Three Museums
URL:https://www.manettebusiness.org/event/october-first-friday-art-walk/
ATTACH;FMTTYPE=image/png:https://www.manettebusiness.org/wp-content/uploads/2023/04/First-Friday.png
END:VEVENT
BEGIN:VEVENT
DTSTART;TZID=UTC:20230909T090000
DTEND;TZID=UTC:20230909T160000
DTSTAMP:20260423T173307
CREATED:20230413T161620Z
LAST-MODIFIED:20230814T195052Z
UID:177-1694250000-1694275200@www.manettebusiness.org
SUMMARY:Manette Fest
DESCRIPTION:
URL:https://www.manettebusiness.org/event/manette-fest/
ATTACH;FMTTYPE=application/pdf:https://www.manettebusiness.org/wp-content/uploads/2023/04/manettefest_2023-1.pdf
END:VEVENT
BEGIN:VEVENT
DTSTART;TZID=UTC:20230901T170000
DTEND;TZID=UTC:20230901T200000
DTSTAMP:20260423T173307
CREATED:20230413T155240Z
LAST-MODIFIED:20230413T155242Z
UID:149-1693587600-1693598400@www.manettebusiness.org
SUMMARY:September First Friday Art Walk
DESCRIPTION:Enjoy a free community event that showcases the thriving art scene in Bremerton.First Friday Art Walk is held in Downtown Bremerton\, Callow and Manette every first Friday from 5pm–8pm. Rain or shine. Our downtown community is growing and we want you to discover your future favorite gallery\, retail shops and local eats. Check out the featured businesses that participate during First Friday Art Walk. Businesses host artists\, musicians\, and more. Discover Bremerton today. \n\n\n\n\n\nEnjoy a wide variety of businesses and attractions including:\n\n\n\n\n• Cinemas \n• Arcades \n• Retail Shopping \n• and of course…Local Art \n\n\n\n\n• Restaurants \n• Two Fine Art Galleries \n• Three Museums
URL:https://www.manettebusiness.org/event/september-first-friday-art-walk/
ATTACH;FMTTYPE=image/png:https://www.manettebusiness.org/wp-content/uploads/2023/04/First-Friday.png
END:VEVENT
BEGIN:VEVENT
DTSTART;TZID=UTC:20230824T183000
DTEND;TZID=UTC:20230824T203000
DTSTAMP:20260423T173307
CREATED:20230413T161143Z
LAST-MODIFIED:20230516T175643Z
UID:175-1692901800-1692909000@www.manettebusiness.org
SUMMARY:Music In Manette - Mikey The Rad Scientist
DESCRIPTION:Summer concert series at Whitey Domstad Park hosted by the Manette Business Association. Join us Thursday evenings 6:30p-8:30p from July 6th-Aug 24th for live music and an opportunity to connect with your community. See you there!
URL:https://www.manettebusiness.org/event/music-in-manette-mikey-the-rad-scientist/
LOCATION:Whitey Domstad Park\, 1101 Wheaton Way\, Bremerton\, Washington\, 98310\, United States
ATTACH;FMTTYPE=image/jpeg:https://www.manettebusiness.org/wp-content/uploads/2023/04/Music-in-manette-1.jpeg
END:VEVENT
BEGIN:VEVENT
DTSTART;TZID=UTC:20230817T183000
DTEND;TZID=UTC:20230817T203000
DTSTAMP:20260423T173307
CREATED:20230413T161105Z
LAST-MODIFIED:20230516T175633Z
UID:173-1692297000-1692304200@www.manettebusiness.org
SUMMARY:Music In Manette - Megan and Heidi
DESCRIPTION:Summer concert series at Whitey Domstad Park hosted by the Manette Business Association. Join us Thursday evenings 6:30p-8:30p from July 6th-Aug 24th for live music and an opportunity to connect with your community. See you there!
URL:https://www.manettebusiness.org/event/music-in-manette-megan-and-heidi/
LOCATION:Whitey Domstad Park\, 1101 Wheaton Way\, Bremerton\, Washington\, 98310\, United States
ATTACH;FMTTYPE=image/jpeg:https://www.manettebusiness.org/wp-content/uploads/2023/04/Music-in-manette-1.jpeg
END:VEVENT
BEGIN:VEVENT
DTSTART;TZID=UTC:20230810T183000
DTEND;TZID=UTC:20230810T203000
DTSTAMP:20260423T173307
CREATED:20230413T161038Z
LAST-MODIFIED:20230516T175625Z
UID:171-1691692200-1691699400@www.manettebusiness.org
SUMMARY:Music In Manette - Bonefish
DESCRIPTION:Summer concert series at Whitey Domstad Park hosted by the Manette Business Association. Join us Thursday evenings 6:30p-8:30p from July 6th-Aug 24th for live music and an opportunity to connect with your community. See you there!
URL:https://www.manettebusiness.org/event/music-in-manette-bonefish/
LOCATION:Whitey Domstad Park\, 1101 Wheaton Way\, Bremerton\, Washington\, 98310\, United States
ATTACH;FMTTYPE=image/jpeg:https://www.manettebusiness.org/wp-content/uploads/2023/04/Music-in-manette-1.jpeg
END:VEVENT
BEGIN:VEVENT
DTSTART;TZID=UTC:20230804T170000
DTEND;TZID=UTC:20230804T200000
DTSTAMP:20260423T173307
CREATED:20230413T155154Z
LAST-MODIFIED:20230413T155156Z
UID:147-1691168400-1691179200@www.manettebusiness.org
SUMMARY:August First Friday Art Walk
DESCRIPTION:Enjoy a free community event that showcases the thriving art scene in Bremerton.First Friday Art Walk is held in Downtown Bremerton\, Callow and Manette every first Friday from 5pm–8pm. Rain or shine. Our downtown community is growing and we want you to discover your future favorite gallery\, retail shops and local eats. Check out the featured businesses that participate during First Friday Art Walk. Businesses host artists\, musicians\, and more. Discover Bremerton today. \n\n\n\n\n\nEnjoy a wide variety of businesses and attractions including:\n\n\n\n\n• Cinemas \n• Arcades \n• Retail Shopping \n• and of course…Local Art \n\n\n\n\n• Restaurants \n• Two Fine Art Galleries \n• Three Museums
URL:https://www.manettebusiness.org/event/august-first-friday-art-walk/
ATTACH;FMTTYPE=image/png:https://www.manettebusiness.org/wp-content/uploads/2023/04/First-Friday.png
END:VEVENT
BEGIN:VEVENT
DTSTART;TZID=UTC:20230803T183000
DTEND;TZID=UTC:20230803T203000
DTSTAMP:20260423T173307
CREATED:20230413T161007Z
LAST-MODIFIED:20230519T192150Z
UID:169-1691087400-1691094600@www.manettebusiness.org
SUMMARY:Music In Manette - WEPA
DESCRIPTION:Summer concert series at Whitey Domstad Park hosted by the Manette Business Association. Join us Thursday evenings 6:30p-8:30p from July 6th-Aug 24th for live music and an opportunity to connect with your community. See you there!
URL:https://www.manettebusiness.org/event/music-in-manette-wepa/
LOCATION:Whitey Domstad Park\, 1101 Wheaton Way\, Bremerton\, Washington\, 98310\, United States
ATTACH;FMTTYPE=image/jpeg:https://www.manettebusiness.org/wp-content/uploads/2023/04/Music-in-manette-1.jpeg
END:VEVENT
BEGIN:VEVENT
DTSTART;TZID=UTC:20230727T183000
DTEND;TZID=UTC:20230727T203000
DTSTAMP:20260423T173307
CREATED:20230413T160930Z
LAST-MODIFIED:20230516T175607Z
UID:167-1690482600-1690489800@www.manettebusiness.org
SUMMARY:Music In Manette - The Outliars Club
DESCRIPTION:Summer concert series at Whitey Domstad Park hosted by the Manette Business Association. Join us Thursday evenings 6:30p-8:30p from July 6th-Aug 24th for live music and an opportunity to connect with your community. See you there!
URL:https://www.manettebusiness.org/event/music-in-manette-the-outliars-club/
LOCATION:Whitey Domstad Park\, 1101 Wheaton Way\, Bremerton\, Washington\, 98310\, United States
ATTACH;FMTTYPE=image/jpeg:https://www.manettebusiness.org/wp-content/uploads/2023/04/Music-in-manette-1.jpeg
END:VEVENT
BEGIN:VEVENT
DTSTART;TZID=UTC:20230720T183000
DTEND;TZID=UTC:20230720T203000
DTSTAMP:20260423T173307
CREATED:20230413T160907Z
LAST-MODIFIED:20230516T175558Z
UID:165-1689877800-1689885000@www.manettebusiness.org
SUMMARY:Music In Manette - Kim Archer
DESCRIPTION:Summer concert series at Whitey Domstad Park hosted by the Manette Business Association. Join us Thursday evenings 6:30p-8:30p from July 6th-Aug 24th for live music and an opportunity to connect with your community. See you there!
URL:https://www.manettebusiness.org/event/music-in-manette-kim-archer/
LOCATION:Whitey Domstad Park\, 1101 Wheaton Way\, Bremerton\, Washington\, 98310\, United States
ATTACH;FMTTYPE=image/jpeg:https://www.manettebusiness.org/wp-content/uploads/2023/04/Music-in-manette-1.jpeg
END:VEVENT
BEGIN:VEVENT
DTSTART;TZID=UTC:20230713T183000
DTEND;TZID=UTC:20230713T203000
DTSTAMP:20260423T173307
CREATED:20230413T160842Z
LAST-MODIFIED:20230519T192150Z
UID:163-1689273000-1689280200@www.manettebusiness.org
SUMMARY:Music In Manette - Dead Man
DESCRIPTION:Summer concert series at Whitey Domstad Park hosted by the Manette Business Association. Join us Thursday evenings 6:30p-8:30p from July 6th-Aug 24th for live music and an opportunity to connect with your community. See you there!
URL:https://www.manettebusiness.org/event/music-in-manette-deadman/
LOCATION:Whitey Domstad Park\, 1101 Wheaton Way\, Bremerton\, Washington\, 98310\, United States
ATTACH;FMTTYPE=image/jpeg:https://www.manettebusiness.org/wp-content/uploads/2023/04/Music-in-manette-1.jpeg
END:VEVENT
BEGIN:VEVENT
DTSTART;TZID=UTC:20230707T170000
DTEND;TZID=UTC:20230707T200000
DTSTAMP:20260423T173307
CREATED:20230413T155124Z
LAST-MODIFIED:20230413T155126Z
UID:145-1688749200-1688760000@www.manettebusiness.org
SUMMARY:July First Friday Art Walk
DESCRIPTION:Enjoy a free community event that showcases the thriving art scene in Bremerton.First Friday Art Walk is held in Downtown Bremerton\, Callow and Manette every first Friday from 5pm–8pm. Rain or shine. Our downtown community is growing and we want you to discover your future favorite gallery\, retail shops and local eats. Check out the featured businesses that participate during First Friday Art Walk. Businesses host artists\, musicians\, and more. Discover Bremerton today. \n\n\n\n\n\nEnjoy a wide variety of businesses and attractions including:\n\n\n\n\n• Cinemas \n• Arcades \n• Retail Shopping \n• and of course…Local Art \n\n\n\n\n• Restaurants \n• Two Fine Art Galleries \n• Three Museums
URL:https://www.manettebusiness.org/event/july-first-friday-art-walk/
ATTACH;FMTTYPE=image/png:https://www.manettebusiness.org/wp-content/uploads/2023/04/First-Friday.png
END:VEVENT
BEGIN:VEVENT
DTSTART;TZID=UTC:20230706T183000
DTEND;TZID=UTC:20230706T203000
DTSTAMP:20260423T173307
CREATED:20230413T160503Z
LAST-MODIFIED:20230516T175537Z
UID:157-1688668200-1688675400@www.manettebusiness.org
SUMMARY:Music In Manette - Jack Parker and The Remedy
DESCRIPTION:Summer concert series at Whitey Domstad Park hosted by the Manette Business Association. Join us Thursday evenings 6:30p-8:30p from July 6th-Aug 24th for live music and an opportunity to connect with your community. See you there!
URL:https://www.manettebusiness.org/event/music-in-manette-jack-parker-and-the-remedy/
LOCATION:Whitey Domstad Park\, 1101 Wheaton Way\, Bremerton\, Washington\, 98310\, United States
ATTACH;FMTTYPE=image/jpeg:https://www.manettebusiness.org/wp-content/uploads/2023/04/Music-in-manette-1.jpeg
END:VEVENT
BEGIN:VEVENT
DTSTART;TZID=UTC:20230602T170000
DTEND;TZID=UTC:20230602T200000
DTSTAMP:20260423T173307
CREATED:20230413T154759Z
LAST-MODIFIED:20230413T155044Z
UID:140-1685725200-1685736000@www.manettebusiness.org
SUMMARY:June First Friday Art Walk
DESCRIPTION:Enjoy a free community event that showcases the thriving art scene in Bremerton.First Friday Art Walk is held in Downtown Bremerton\, Callow and Manette every first Friday from 5pm–8pm. Rain or shine. Our downtown community is growing and we want you to discover your future favorite gallery\, retail shops and local eats. Check out the featured businesses that participate during First Friday Art Walk. Businesses host artists\, musicians\, and more. Discover Bremerton today. \n\n\n\n\n\nEnjoy a wide variety of businesses and attractions including:\n\n\n\n\n• Cinemas \n• Arcades \n• Retail Shopping \n• and of course…Local Art \n\n\n\n\n• Restaurants \n• Two Fine Art Galleries \n• Three Museums
URL:https://www.manettebusiness.org/event/june-first-friday-art-walk/
ATTACH;FMTTYPE=image/png:https://www.manettebusiness.org/wp-content/uploads/2023/04/First-Friday.png
END:VEVENT
BEGIN:VEVENT
DTSTART;TZID=UTC:20230506T170000
DTEND;TZID=UTC:20230506T200000
DTSTAMP:20260423T173307
CREATED:20230412T193044Z
LAST-MODIFIED:20230413T155013Z
UID:23-1683392400-1683403200@www.manettebusiness.org
SUMMARY:May First Friday Art Walk
DESCRIPTION:Enjoy a free community event that showcases the thriving art scene in Bremerton.First Friday Art Walk is held in Downtown Bremerton\, Callow and Manette every first Friday from 5pm–8pm. Rain or shine. Our downtown community is growing and we want you to discover your future favorite gallery\, retail shops and local eats. Check out the featured businesses that participate during First Friday Art Walk. Businesses host artists\, musicians\, and more. Discover Bremerton today. \n\n\n\n\n\nEnjoy a wide variety of businesses and attractions including:\n\n\n\n\n• Cinemas \n• Arcades \n• Retail Shopping \n• and of course…Local Art \n\n\n\n\n• Restaurants \n• Two Fine Art Galleries \n• Three Museums
URL:https://www.manettebusiness.org/event/first-friday-artwalk/
ATTACH;FMTTYPE=image/png:https://www.manettebusiness.org/wp-content/uploads/2023/04/First-Friday.png
END:VEVENT
END:VCALENDAR